BEGIN:VCALENDAR
VERSION:2.0
PRODID:-//Kansas Council for Workforce Education - ECPv6.15.20//NONSGML v1.0//EN
CALSCALE:GREGORIAN
METHOD:PUBLISH
X-WR-CALNAME:Kansas Council for Workforce Education
X-ORIGINAL-URL:https://kcwe.org
X-WR-CALDESC:Events for Kansas Council for Workforce Education
REFRESH-INTERVAL;VALUE=DURATION:PT1H
X-Robots-Tag:noindex
X-PUBLISHED-TTL:PT1H
BEGIN:VTIMEZONE
TZID:America/Chicago
BEGIN:DAYLIGHT
TZOFFSETFROM:-0600
TZOFFSETTO:-0500
TZNAME:CDT
DTSTART:20230312T080000
END:DAYLIGHT
BEGIN:STANDARD
TZOFFSETFROM:-0500
TZOFFSETTO:-0600
TZNAME:CST
DTSTART:20231105T070000
END:STANDARD
BEGIN:DAYLIGHT
TZOFFSETFROM:-0600
TZOFFSETTO:-0500
TZNAME:CDT
DTSTART:20240310T080000
END:DAYLIGHT
BEGIN:STANDARD
TZOFFSETFROM:-0500
TZOFFSETTO:-0600
TZNAME:CST
DTSTART:20241103T070000
END:STANDARD
BEGIN:DAYLIGHT
TZOFFSETFROM:-0600
TZOFFSETTO:-0500
TZNAME:CDT
DTSTART:20250309T080000
END:DAYLIGHT
BEGIN:STANDARD
TZOFFSETFROM:-0500
TZOFFSETTO:-0600
TZNAME:CST
DTSTART:20251102T070000
END:STANDARD
END:VTIMEZONE
BEGIN:VEVENT
DTSTART;TZID=America/Chicago:20240416T090000
DTEND;TZID=America/Chicago:20240417T143000
DTSTAMP:20260421T055230
CREATED:20220308T133749Z
LAST-MODIFIED:20240208T181527Z
UID:579-1713258000-1713364200@kcwe.org
SUMMARY:Apprenticeship Championship Training-April 16 and 17\, 2024-Hutchinson
DESCRIPTION:Registered Apprenticeship! Wait\, that’s a thing? Learn the ins and outs of setting up a Registered Apprenticeship\, the value it can bring your college and department\, and best practices for working with business and industry partners. Explore setting up pathways in Kansas most in-demand professions including IT\, Healthcare\, manufacturing and other new sectors.  Also learn more about the process KBOR has put into place to make it easier for your college to engage in Registered Apprenticeship!  \nIncludes learning about Youth Apprenticeships as well. \nPresented by Shonda Atwater\, Director of Internships and Apprenticeships\, Kansas Department of Commerce \n 
URL:https://kcwe.org/event/navigating-the-ins-and-outs-of-apprenticeships-april-29-2022-topeka/
LOCATION:Hutchinson Community College\, 1300 N Plum St\, Hutchinson\, KS\, 67501\, United States
CATEGORIES:Workshop
END:VEVENT
END:VCALENDAR