BEGIN:VCALENDAR
VERSION:2.0
PRODID:-//Kansas Council for Workforce Education - ECPv6.15.20//NONSGML v1.0//EN
CALSCALE:GREGORIAN
METHOD:PUBLISH
X-WR-CALNAME:Kansas Council for Workforce Education
X-ORIGINAL-URL:https://kcwe.org
X-WR-CALDESC:Events for Kansas Council for Workforce Education
REFRESH-INTERVAL;VALUE=DURATION:PT1H
X-Robots-Tag:noindex
X-PUBLISHED-TTL:PT1H
BEGIN:VTIMEZONE
TZID:America/Chicago
BEGIN:DAYLIGHT
TZOFFSETFROM:-0600
TZOFFSETTO:-0500
TZNAME:CDT
DTSTART:20240310T080000
END:DAYLIGHT
BEGIN:STANDARD
TZOFFSETFROM:-0500
TZOFFSETTO:-0600
TZNAME:CST
DTSTART:20241103T070000
END:STANDARD
BEGIN:DAYLIGHT
TZOFFSETFROM:-0600
TZOFFSETTO:-0500
TZNAME:CDT
DTSTART:20250309T080000
END:DAYLIGHT
BEGIN:STANDARD
TZOFFSETFROM:-0500
TZOFFSETTO:-0600
TZNAME:CST
DTSTART:20251102T070000
END:STANDARD
BEGIN:DAYLIGHT
TZOFFSETFROM:-0600
TZOFFSETTO:-0500
TZNAME:CDT
DTSTART:20260308T080000
END:DAYLIGHT
BEGIN:STANDARD
TZOFFSETFROM:-0500
TZOFFSETTO:-0600
TZNAME:CST
DTSTART:20261101T070000
END:STANDARD
END:VTIMEZONE
BEGIN:VEVENT
DTSTART;TZID=America/Chicago:20251002T083000
DTEND;TZID=America/Chicago:20251003T170000
DTSTAMP:20260419T115922
CREATED:20210820T133938Z
LAST-MODIFIED:20250805T141845Z
UID:534-1759393800-1759510800@kcwe.org
SUMMARY:Fall New Instructor Workshop -Oct 2-3\, 2025
DESCRIPTION:Dates and Times:\n\nOct 2 – 8:30am to 5:00pm\nOct 3 – 8:00am to 5:00pm\n\nThe New Instructor Workshop is designed specifically for individuals from business\, industry and healthcare who are beginning their role as an instructor\, but all post-secondary teachers are welcome. The focus of the seminar is on improving instructional planning for the classroom/lab and improving the execution of instructional strategies to increase student learning. \nCourse Outcomes:\n\nConstruct one complete lesson plan\nBuild effective competencies (using Bloom’s Taxonomy)\nDevelop memorable and clear lesson introductions and summaries\nGenerate oral questions for student engagement & learning\nCreate teaching strategies to aid students in developing competence\nDiscuss the creation of a positive classroom learning environment\nPractice teaching the completed lesson plan\n\n  \n 
URL:https://kcwe.org/event/new-instructor-workshop/
LOCATION:Dodge City Community College
CATEGORIES:Workshop
END:VEVENT
END:VCALENDAR